BEGIN:VCALENDAR
VERSION:2.0
PRODID:-//Chef EZ &amp; The Mariposa - ECPv6.15.20//NONSGML v1.0//EN
CALSCALE:GREGORIAN
METHOD:PUBLISH
X-ORIGINAL-URL:https://chefezjax.com
X-WR-CALDESC:Events for Chef EZ &amp; The Mariposa
REFRESH-INTERVAL;VALUE=DURATION:PT1H
X-Robots-Tag:noindex
X-PUBLISHED-TTL:PT1H
BEGIN:VTIMEZONE
TZID:UTC
BEGIN:STANDARD
TZOFFSETFROM:+0000
TZOFFSETTO:+0000
TZNAME:UTC
DTSTART:20230101T000000
END:STANDARD
END:VTIMEZONE
BEGIN:VEVENT
DTSTART;TZID=UTC:20241130T120000
DTEND;TZID=UTC:20241130T180000
DTSTAMP:20260421T171245
CREATED:20241007T183233Z
LAST-MODIFIED:20241007T183233Z
UID:716-1732968000-1732989600@chefezjax.com
SUMMARY:Hanna Park
DESCRIPTION:follow the orange signs!
URL:https://chefezjax.com/event/hanna-park-10/
LOCATION:hanna park\, 500 Wonderwood Dr\, Jacksonville\, FL\, 32233\, United States
END:VEVENT
BEGIN:VEVENT
DTSTART;TZID=UTC:20241129T180000
DTEND;TZID=UTC:20241129T230000
DTSTAMP:20260421T171245
CREATED:20241007T183135Z
LAST-MODIFIED:20241007T183135Z
UID:714-1732903200-1732921200@chefezjax.com
SUMMARY:Bedlam Bar & Music
DESCRIPTION:
URL:https://chefezjax.com/event/bedlam-bar-music-13/
LOCATION:bedlam\, 660 Mayport Rd\, Atlantic Beach\, 32233\, United States
END:VEVENT
BEGIN:VEVENT
DTSTART;TZID=UTC:20241129T110000
DTEND;TZID=UTC:20241129T140000
DTSTAMP:20260421T171245
CREATED:20241007T183052Z
LAST-MODIFIED:20241007T183052Z
UID:711-1732878000-1732888800@chefezjax.com
SUMMARY:Audi JAX
DESCRIPTION:
URL:https://chefezjax.com/event/audi-jax/
LOCATION:Audi JAX\, 11401 Atlantic Blvd\, JAcksonville\, FL\, 32225\, United States
END:VEVENT
BEGIN:VEVENT
DTSTART;TZID=UTC:20241124T150000
DTEND;TZID=UTC:20241124T220000
DTSTAMP:20260421T171245
CREATED:20241007T182906Z
LAST-MODIFIED:20241007T182906Z
UID:709-1732460400-1732485600@chefezjax.com
SUMMARY:Bedlam Bar & Music
DESCRIPTION:
URL:https://chefezjax.com/event/bedlam-bar-music-12/
LOCATION:bedlam\, 660 Mayport Rd\, Atlantic Beach\, 32233\, United States
END:VEVENT
BEGIN:VEVENT
DTSTART;TZID=UTC:20241123T120000
DTEND;TZID=UTC:20241123T180000
DTSTAMP:20260421T171245
CREATED:20241007T182815Z
LAST-MODIFIED:20241007T182815Z
UID:707-1732363200-1732384800@chefezjax.com
SUMMARY:Hanna Park
DESCRIPTION:follow the orange signs!
URL:https://chefezjax.com/event/hanna-park-9/
LOCATION:hanna park\, 500 Wonderwood Dr\, Jacksonville\, FL\, 32233\, United States
END:VEVENT
BEGIN:VEVENT
DTSTART;TZID=UTC:20241122T180000
DTEND;TZID=UTC:20241122T230000
DTSTAMP:20260421T171245
CREATED:20241007T182738Z
LAST-MODIFIED:20241007T182738Z
UID:705-1732298400-1732316400@chefezjax.com
SUMMARY:Bedlam Bar & Music
DESCRIPTION:
URL:https://chefezjax.com/event/bedlam-bar-music-11/
LOCATION:FL
END:VEVENT
BEGIN:VEVENT
DTSTART;TZID=UTC:20241121T170000
DTEND;TZID=UTC:20241121T210000
DTSTAMP:20260421T171245
CREATED:20241007T182706Z
LAST-MODIFIED:20241007T182706Z
UID:703-1732208400-1732222800@chefezjax.com
SUMMARY:Mayport Brewing Company
DESCRIPTION:
URL:https://chefezjax.com/event/mayport-brewing-company-7/
LOCATION:Mayport Brewing Company\, 2152 Mayport Rd\, Jacksonville\, FL\, 32233\, United States
END:VEVENT
BEGIN:VEVENT
DTSTART;TZID=UTC:20241120T170000
DTEND;TZID=UTC:20241120T200000
DTSTAMP:20260421T171245
CREATED:20241007T182213Z
LAST-MODIFIED:20241007T182213Z
UID:690-1732122000-1732132800@chefezjax.com
SUMMARY:Steele Creek Apartment Community
DESCRIPTION:
URL:https://chefezjax.com/event/steele-creek-apartment-community/
LOCATION:steele creek apt\, 8599 A C Skinner Pkwy\, JAcksonville\, FL\, 32256\, United States
END:VEVENT
BEGIN:VEVENT
DTSTART;TZID=UTC:20241117T150000
DTEND;TZID=UTC:20241117T220000
DTSTAMP:20260421T171245
CREATED:20241007T182630Z
LAST-MODIFIED:20241007T182630Z
UID:701-1731855600-1731880800@chefezjax.com
SUMMARY:Bedlam Bar & Music
DESCRIPTION:
URL:https://chefezjax.com/event/bedlam-bar-music-10/
LOCATION:bedlam\, 660 Mayport Rd\, Atlantic Beach\, 32233\, United States
END:VEVENT
BEGIN:VEVENT
DTSTART;TZID=UTC:20241116T120000
DTEND;TZID=UTC:20241116T180000
DTSTAMP:20260421T171245
CREATED:20241007T182549Z
LAST-MODIFIED:20241007T182549Z
UID:699-1731758400-1731780000@chefezjax.com
SUMMARY:Hanna Park
DESCRIPTION:follow the orange signs!
URL:https://chefezjax.com/event/hanna-park-8/
LOCATION:hanna park\, 500 Wonderwood Dr\, Jacksonville\, FL\, 32233\, United States
END:VEVENT
BEGIN:VEVENT
DTSTART;TZID=UTC:20241115T180000
DTEND;TZID=UTC:20241115T230000
DTSTAMP:20260421T171245
CREATED:20241007T182452Z
LAST-MODIFIED:20241007T182452Z
UID:697-1731693600-1731711600@chefezjax.com
SUMMARY:Bedlam Bar & Music
DESCRIPTION:
URL:https://chefezjax.com/event/bedlam-bar-music-9/
LOCATION:bedlam\, 660 Mayport Rd\, Atlantic Beach\, 32233\, United States
END:VEVENT
BEGIN:VEVENT
DTSTART;TZID=UTC:20241114T170000
DTEND;TZID=UTC:20241114T210000
DTSTAMP:20260421T171245
CREATED:20241007T182407Z
LAST-MODIFIED:20241007T182407Z
UID:695-1731603600-1731618000@chefezjax.com
SUMMARY:Mayport Brewing Company
DESCRIPTION:
URL:https://chefezjax.com/event/mayport-brewing-company-6/
LOCATION:Mayport Brewing Company\, 2152 Mayport Rd\, Jacksonville\, FL\, 32233\, United States
END:VEVENT
BEGIN:VEVENT
DTSTART;TZID=UTC:20241113T170000
DTEND;TZID=UTC:20241113T200000
DTSTAMP:20260421T171245
CREATED:20241007T182325Z
LAST-MODIFIED:20241007T182325Z
UID:693-1731517200-1731528000@chefezjax.com
SUMMARY:The Enclave Apartments
DESCRIPTION:
URL:https://chefezjax.com/event/the-enclave-apartments-2/
LOCATION:The Enclave\, 13300 Altantic Blvd\, Jacksonville\, 32225\, United States
END:VEVENT
BEGIN:VEVENT
DTSTART;TZID=UTC:20241110T150000
DTEND;TZID=UTC:20241110T220000
DTSTAMP:20260421T171245
CREATED:20241007T181947Z
LAST-MODIFIED:20241007T181947Z
UID:688-1731250800-1731276000@chefezjax.com
SUMMARY:Bedlam Bar & Music
DESCRIPTION:
URL:https://chefezjax.com/event/bedlam-bar-music-8/
LOCATION:bedlam\, 660 Mayport Rd\, Atlantic Beach\, 32233\, United States
END:VEVENT
BEGIN:VEVENT
DTSTART;TZID=UTC:20241109T120000
DTEND;TZID=UTC:20241109T180000
DTSTAMP:20260421T171245
CREATED:20241007T181908Z
LAST-MODIFIED:20241007T181908Z
UID:686-1731153600-1731175200@chefezjax.com
SUMMARY:Hanna Park
DESCRIPTION:follow the orange signs!
URL:https://chefezjax.com/event/hanna-park-7/
LOCATION:hanna park\, 500 Wonderwood Dr\, Jacksonville\, FL\, 32233\, United States
END:VEVENT
BEGIN:VEVENT
DTSTART;TZID=UTC:20241108T180000
DTEND;TZID=UTC:20241108T230000
DTSTAMP:20260421T171245
CREATED:20241007T181825Z
LAST-MODIFIED:20241007T181825Z
UID:684-1731088800-1731106800@chefezjax.com
SUMMARY:Bedlam Bar & Music
DESCRIPTION:
URL:https://chefezjax.com/event/bedlam-bar-music-7/
LOCATION:bedlam\, 660 Mayport Rd\, Atlantic Beach\, 32233\, United States
END:VEVENT
BEGIN:VEVENT
DTSTART;TZID=UTC:20241107T170000
DTEND;TZID=UTC:20241107T210000
DTSTAMP:20260421T171245
CREATED:20241007T181738Z
LAST-MODIFIED:20241007T181738Z
UID:682-1730998800-1731013200@chefezjax.com
SUMMARY:Mayport Brewing Company
DESCRIPTION:
URL:https://chefezjax.com/event/mayport-brewing-company-5/
LOCATION:Mayport Brewing Company\, 2152 Mayport Rd\, Jacksonville\, FL\, 32233\, United States
END:VEVENT
BEGIN:VEVENT
DTSTART;TZID=UTC:20241106T170000
DTEND;TZID=UTC:20241106T200000
DTSTAMP:20260421T171245
CREATED:20241007T181656Z
LAST-MODIFIED:20241007T181656Z
UID:679-1730912400-1730923200@chefezjax.com
SUMMARY:Pointe  Parc at St Johns Community
DESCRIPTION:
URL:https://chefezjax.com/event/pointe-parc-at-st-johns-community/
LOCATION:Pt Parc Apt\, 7524 Southside Blvd\, Jacksonville\, FL\, 32256\, United States
END:VEVENT
BEGIN:VEVENT
DTSTART;TZID=UTC:20241103T150000
DTEND;TZID=UTC:20241103T220000
DTSTAMP:20260421T171245
CREATED:20241007T181309Z
LAST-MODIFIED:20241007T181309Z
UID:677-1730646000-1730671200@chefezjax.com
SUMMARY:Bedlam Bar & Music
DESCRIPTION:
URL:https://chefezjax.com/event/bedlam-bar-music-6/
LOCATION:bedlam\, 660 Mayport Rd\, Atlantic Beach\, 32233\, United States
END:VEVENT
BEGIN:VEVENT
DTSTART;TZID=UTC:20241102T120000
DTEND;TZID=UTC:20241102T180000
DTSTAMP:20260421T171245
CREATED:20241007T181152Z
LAST-MODIFIED:20241007T181152Z
UID:675-1730548800-1730570400@chefezjax.com
SUMMARY:Hanna Park
DESCRIPTION:follow the orange sings!
URL:https://chefezjax.com/event/hanna-park-6/
LOCATION:hanna park\, 500 Wonderwood Dr\, Jacksonville\, FL\, 32233\, United States
END:VEVENT
BEGIN:VEVENT
DTSTART;TZID=UTC:20241101T180000
DTEND;TZID=UTC:20241101T230000
DTSTAMP:20260421T171245
CREATED:20241007T180814Z
LAST-MODIFIED:20241007T180814Z
UID:673-1730484000-1730502000@chefezjax.com
SUMMARY:Bedlam Bar & Music
DESCRIPTION:
URL:https://chefezjax.com/event/bedlam-bar-music-5/
LOCATION:bedlam\, 660 Mayport Rd\, Atlantic Beach\, 32233\, United States
END:VEVENT
BEGIN:VEVENT
DTSTART;TZID=UTC:20241031T170000
DTEND;TZID=UTC:20241031T210000
DTSTAMP:20260421T171245
CREATED:20241007T180451Z
LAST-MODIFIED:20241007T180451Z
UID:671-1730394000-1730408400@chefezjax.com
SUMMARY:Mayport Brewing Company
DESCRIPTION:
URL:https://chefezjax.com/event/mayport-brewing-company-4/
LOCATION:Mayport Brewing Company\, 2152 Mayport Rd\, Jacksonville\, FL\, 32233\, United States
END:VEVENT
BEGIN:VEVENT
DTSTART;TZID=UTC:20241030T170000
DTEND;TZID=UTC:20241030T200000
DTSTAMP:20260421T171245
CREATED:20241007T180358Z
LAST-MODIFIED:20241007T180358Z
UID:669-1730307600-1730318400@chefezjax.com
SUMMARY:The Enclave Apartments
DESCRIPTION:
URL:https://chefezjax.com/event/the-enclave-apartments/
LOCATION:The Enclave\, 13300 Altantic Blvd\, Jacksonville\, 32225\, United States
END:VEVENT
BEGIN:VEVENT
DTSTART;TZID=UTC:20241030T110000
DTEND;TZID=UTC:20241030T140000
DTSTAMP:20260421T171245
CREATED:20241007T175946Z
LAST-MODIFIED:20241007T175946Z
UID:666-1730286000-1730296800@chefezjax.com
SUMMARY:Corporate Traffic Logistics Office Complex
DESCRIPTION:
URL:https://chefezjax.com/event/corporate-traffic-logistics-office-complex/
LOCATION:Corporate Traffic Logistics\, 6500 Bowden Rd\, Jacksonville\, FL\, 32216\, United States
END:VEVENT
BEGIN:VEVENT
DTSTART;TZID=UTC:20241027T173000
DTEND;TZID=UTC:20241027T200000
DTSTAMP:20260421T171245
CREATED:20241007T175528Z
LAST-MODIFIED:20241007T175528Z
UID:663-1730050200-1730059200@chefezjax.com
SUMMARY:Private Catering
DESCRIPTION:
URL:https://chefezjax.com/event/private-catering/
LOCATION:private catering event
END:VEVENT
BEGIN:VEVENT
DTSTART;TZID=UTC:20241027T120000
DTEND;TZID=UTC:20241027T170000
DTSTAMP:20260421T171245
CREATED:20241007T175441Z
LAST-MODIFIED:20241007T175441Z
UID:661-1730030400-1730048400@chefezjax.com
SUMMARY:Hanna Park
DESCRIPTION:follow the orange signs!
URL:https://chefezjax.com/event/hanna-park-5/
LOCATION:hanna park\, 500 Wonderwood Dr\, Jacksonville\, FL\, 32233\, United States
END:VEVENT
BEGIN:VEVENT
DTSTART;TZID=UTC:20241026T120000
DTEND;TZID=UTC:20241026T180000
DTSTAMP:20260421T171245
CREATED:20241007T175308Z
LAST-MODIFIED:20241007T175356Z
UID:659-1729944000-1729965600@chefezjax.com
SUMMARY:Hanna Park
DESCRIPTION:follow the orange signs!
URL:https://chefezjax.com/event/hanna-park-4/
LOCATION:hanna park\, 500 Wonderwood Dr\, Jacksonville\, FL\, 32233\, United States
END:VEVENT
BEGIN:VEVENT
DTSTART;TZID=UTC:20241025T180000
DTEND;TZID=UTC:20241025T220000
DTSTAMP:20260421T171245
CREATED:20241007T175130Z
LAST-MODIFIED:20241007T175130Z
UID:657-1729879200-1729893600@chefezjax.com
SUMMARY:Bedlam Bar & Music
DESCRIPTION:
URL:https://chefezjax.com/event/bedlam-bar-music-4/
LOCATION:bedlam\, 660 Mayport Rd\, Atlantic Beach\, 32233\, United States
END:VEVENT
BEGIN:VEVENT
DTSTART;TZID=UTC:20241024T170000
DTEND;TZID=UTC:20241024T210000
DTSTAMP:20260421T171245
CREATED:20241007T175015Z
LAST-MODIFIED:20241007T175015Z
UID:654-1729789200-1729803600@chefezjax.com
SUMMARY:Mayport Brewing Company
DESCRIPTION:
URL:https://chefezjax.com/event/mayport-brewing-company-3/
LOCATION:Mayport Brewing Company\, 2152 Mayport Rd\, Jacksonville\, FL\, 32233\, United States
END:VEVENT
BEGIN:VEVENT
DTSTART;TZID=UTC:20241023T170000
DTEND;TZID=UTC:20241023T200000
DTSTAMP:20260421T171245
CREATED:20241007T174923Z
LAST-MODIFIED:20241007T174923Z
UID:651-1729702800-1729713600@chefezjax.com
SUMMARY:33 East Apartments
DESCRIPTION:
URL:https://chefezjax.com/event/33-east-apartments/
LOCATION:33 East Apartments\, 2610 State Road A1A\, Atlantic Beach\, FL\, 32233\, United States
END:VEVENT
END:VCALENDAR