BEGIN:VCALENDAR
VERSION:2.0
PRODID:-//Chef EZ &amp; The Mariposa - ECPv6.15.20//NONSGML v1.0//EN
CALSCALE:GREGORIAN
METHOD:PUBLISH
X-ORIGINAL-URL:https://chefezjax.com
X-WR-CALDESC:Events for Chef EZ &amp; The Mariposa
REFRESH-INTERVAL;VALUE=DURATION:PT1H
X-Robots-Tag:noindex
X-PUBLISHED-TTL:PT1H
BEGIN:VTIMEZONE
TZID:UTC
BEGIN:STANDARD
TZOFFSETFROM:+0000
TZOFFSETTO:+0000
TZNAME:UTC
DTSTART:20220101T000000
END:STANDARD
END:VTIMEZONE
BEGIN:VEVENT
DTSTART;TZID=UTC:20230927T163000
DTEND;TZID=UTC:20230927T200000
DTSTAMP:20260422T065118
CREATED:20230911T152459Z
LAST-MODIFIED:20230911T152459Z
UID:436-1695832200-1695844800@chefezjax.com
SUMMARY:Registry at Windsor Park Apartments 4:30-8pm
DESCRIPTION:
URL:https://chefezjax.com/event/registry-at-windsor-park-apartments-430-8pm/
LOCATION:Registry at WIndsor Park\, 13401 Sutton Parl Dr S\, Jacksonville\, FL\, 32224\, United States
END:VEVENT
BEGIN:VEVENT
DTSTART;TZID=UTC:20230924T160000
DTEND;TZID=UTC:20230924T210000
DTSTAMP:20260422T065118
CREATED:20230911T151017Z
LAST-MODIFIED:20230911T151017Z
UID:434-1695571200-1695589200@chefezjax.com
SUMMARY:Bedlam Bar & Music
DESCRIPTION:
URL:https://chefezjax.com/event/bedlam-bar-music/
LOCATION:bedlam\, 660 Mayport Rd\, Atlantic Beach\, 32233\, United States
END:VEVENT
BEGIN:VEVENT
DTSTART;TZID=UTC:20230923T113000
DTEND;TZID=UTC:20230923T183000
DTSTAMP:20260422T065118
CREATED:20230911T150748Z
LAST-MODIFIED:20230911T150748Z
UID:432-1695468600-1695493800@chefezjax.com
SUMMARY:Hanna Park 11:30-6:30pm
DESCRIPTION:
URL:https://chefezjax.com/event/hanna-park-1130-630pm-14/
LOCATION:hanna park\, 500 Wonderwood Dr\, Jacksonville\, FL\, 32233\, United States
END:VEVENT
BEGIN:VEVENT
DTSTART;TZID=UTC:20230922T113000
DTEND;TZID=UTC:20230922T183000
DTSTAMP:20260422T065118
CREATED:20230911T150713Z
LAST-MODIFIED:20230911T150713Z
UID:430-1695382200-1695407400@chefezjax.com
SUMMARY:Hanna Park 11:30-6:30pm
DESCRIPTION:
URL:https://chefezjax.com/event/hanna-park-1130-630pm-13/
LOCATION:hanna park\, 500 Wonderwood Dr\, Jacksonville\, FL\, 32233\, United States
END:VEVENT
BEGIN:VEVENT
DTSTART;TZID=UTC:20230921T113000
DTEND;TZID=UTC:20230921T183000
DTSTAMP:20260422T065118
CREATED:20230911T150624Z
LAST-MODIFIED:20230911T150624Z
UID:428-1695295800-1695321000@chefezjax.com
SUMMARY:Hanna Park 11:30-6:30pm
DESCRIPTION:
URL:https://chefezjax.com/event/hanna-park-1130-630pm-12/
LOCATION:hanna park\, 500 Wonderwood Dr\, Jacksonville\, FL\, 32233\, United States
END:VEVENT
BEGIN:VEVENT
DTSTART;TZID=UTC:20230920T110000
DTEND;TZID=UTC:20230920T140000
DTSTAMP:20260422T065118
CREATED:20230911T150529Z
LAST-MODIFIED:20230911T150529Z
UID:425-1695207600-1695218400@chefezjax.com
SUMMARY:Center One Deerwood Offices 11am-2pm
DESCRIPTION:
URL:https://chefezjax.com/event/center-one-deerwood-offices-11am-2pm/
LOCATION:Center One\, 10475 Centurion Parkway\, Jacksonville\, FL\, 32256\, United States
END:VEVENT
BEGIN:VEVENT
DTSTART;TZID=UTC:20230917T160000
DTEND;TZID=UTC:20230917T210000
DTSTAMP:20260422T065118
CREATED:20230911T150132Z
LAST-MODIFIED:20230911T150132Z
UID:421-1694966400-1694984400@chefezjax.com
SUMMARY:Bedlam Bar & Music 4-9pm
DESCRIPTION:
URL:https://chefezjax.com/event/bedlam-bar-music-4-9pm/
LOCATION:bedlam\, 660 Mayport Rd\, Atlantic Beach\, 32233\, United States
END:VEVENT
BEGIN:VEVENT
DTSTART;TZID=UTC:20230916T173000
DTEND;TZID=UTC:20230916T213000
DTSTAMP:20260422T065118
CREATED:20230911T145932Z
LAST-MODIFIED:20230911T150252Z
UID:419-1694885400-1694899800@chefezjax.com
SUMMARY:Veterans United Brewery
DESCRIPTION:
URL:https://chefezjax.com/event/hanna-park-1130-630pm-11/
LOCATION:Veterans United\, 8999 Western Way #104\, Jacksonville\, FL\, 32256\, United States
END:VEVENT
BEGIN:VEVENT
DTSTART;TZID=UTC:20230915T113000
DTEND;TZID=UTC:20230915T183000
DTSTAMP:20260422T065118
CREATED:20230911T145841Z
LAST-MODIFIED:20230911T145841Z
UID:417-1694777400-1694802600@chefezjax.com
SUMMARY:Hanna Park 11:30-6:30pm
DESCRIPTION:
URL:https://chefezjax.com/event/hanna-park-1130-630pm-10/
LOCATION:hanna park\, 500 Wonderwood Dr\, Jacksonville\, FL\, 32233\, United States
END:VEVENT
BEGIN:VEVENT
DTSTART;TZID=UTC:20230914T113000
DTEND;TZID=UTC:20230914T183000
DTSTAMP:20260422T065118
CREATED:20230911T145708Z
LAST-MODIFIED:20230911T145708Z
UID:415-1694691000-1694716200@chefezjax.com
SUMMARY:Hanna Park 11:30-6:30pm
DESCRIPTION:
URL:https://chefezjax.com/event/hanna-park-1130-630pm-9/
LOCATION:hanna park\, 500 Wonderwood Dr\, Jacksonville\, FL\, 32233\, United States
END:VEVENT
BEGIN:VEVENT
DTSTART;TZID=UTC:20230913T163000
DTEND;TZID=UTC:20230913T200000
DTSTAMP:20260422T065118
CREATED:20230911T145613Z
LAST-MODIFIED:20230911T145613Z
UID:413-1694622600-1694635200@chefezjax.com
SUMMARY:Sola Luxury Apartments
DESCRIPTION:
URL:https://chefezjax.com/event/sola-luxury-apartments/
LOCATION:Sola Luxury Apartment Homes\, 8074 Gate Parkway W.\, Jacksonville\, FL\, 32216\, United States
END:VEVENT
BEGIN:VEVENT
DTSTART;TZID=UTC:20230904T113000
DTEND;TZID=UTC:20230904T160000
DTSTAMP:20260422T065118
CREATED:20230806T145725Z
LAST-MODIFIED:20230806T145725Z
UID:399-1693827000-1693843200@chefezjax.com
SUMMARY:Hanna Park 11:30-4pm
DESCRIPTION:
URL:https://chefezjax.com/event/hanna-park-1130-4pm/
LOCATION:hanna park\, 500 Wonderwood Dr\, Jacksonville\, FL\, 32233\, United States
END:VEVENT
BEGIN:VEVENT
DTSTART;TZID=UTC:20230902T113000
DTEND;TZID=UTC:20230902T183000
DTSTAMP:20260422T065118
CREATED:20230806T145626Z
LAST-MODIFIED:20230806T145626Z
UID:397-1693654200-1693679400@chefezjax.com
SUMMARY:Hanna Park 11:30-6:30pm
DESCRIPTION:
URL:https://chefezjax.com/event/hanna-park-1130-630pm-8/
LOCATION:hanna park\, 500 Wonderwood Dr\, Jacksonville\, FL\, 32233\, United States
END:VEVENT
BEGIN:VEVENT
DTSTART;TZID=UTC:20230901T113000
DTEND;TZID=UTC:20230901T183000
DTSTAMP:20260422T065118
CREATED:20230806T145549Z
LAST-MODIFIED:20230806T145549Z
UID:395-1693567800-1693593000@chefezjax.com
SUMMARY:Hanna Park 11:30-6:30pm
DESCRIPTION:
URL:https://chefezjax.com/event/hanna-park-1130-630pm-7/
LOCATION:hanna park\, 500 Wonderwood Dr\, Jacksonville\, FL\, 32233\, United States
END:VEVENT
BEGIN:VEVENT
DTSTART;TZID=UTC:20230831T163000
DTEND;TZID=UTC:20230831T193000
DTSTAMP:20260422T065118
CREATED:20230806T143351Z
LAST-MODIFIED:20230829T142122Z
UID:392-1693499400-1693510200@chefezjax.com
SUMMARY:Uptown St. Johns Apartments 5-8pm
DESCRIPTION:near St John’sTown Center shopping
URL:https://chefezjax.com/event/uptown-st-johns-apartments-5-8pm/
LOCATION:Uptown at St Johns\, 5290 Big Island Dr\, Jacksonville\, FL\, 32246\, United States
END:VEVENT
BEGIN:VEVENT
DTSTART;TZID=UTC:20230829T170000
DTEND;TZID=UTC:20230829T200000
DTSTAMP:20260422T065118
CREATED:20230806T142733Z
LAST-MODIFIED:20230806T142733Z
UID:389-1693328400-1693339200@chefezjax.com
SUMMARY:Sutton Lakes Neighborhood 5-8pm
DESCRIPTION:Located at the front pool
URL:https://chefezjax.com/event/sutton-lakes-neighborhood-5-8pm/
LOCATION:sutton lakes\, 1813 Willesdon Dr E\, Jacksonville\, FL\, 32225\, United States
END:VEVENT
BEGIN:VEVENT
DTSTART;TZID=UTC:20230827T160000
DTEND;TZID=UTC:20230827T210000
DTSTAMP:20260422T065118
CREATED:20230806T141914Z
LAST-MODIFIED:20230821T231018Z
UID:380-1693152000-1693170000@chefezjax.com
SUMMARY:Bedlam Bar & Music Venue 4-9pm
DESCRIPTION:
URL:https://chefezjax.com/event/hanna-park-1130-630pm-3/
LOCATION:bedlam\, 660 Mayport Rd\, Atlantic Beach\, 32233\, United States
END:VEVENT
BEGIN:VEVENT
DTSTART;TZID=UTC:20230826T113000
DTEND;TZID=UTC:20230826T183000
DTSTAMP:20260422T065118
CREATED:20230806T142210Z
LAST-MODIFIED:20230806T142210Z
UID:385-1693049400-1693074600@chefezjax.com
SUMMARY:Hanna Park 11:30-6:30pm
DESCRIPTION:
URL:https://chefezjax.com/event/hanna-park-1130-630pm-5/
LOCATION:hanna park\, 500 Wonderwood Dr\, Jacksonville\, FL\, 32233\, United States
END:VEVENT
BEGIN:VEVENT
DTSTART;TZID=UTC:20230825T113000
DTEND;TZID=UTC:20230825T183000
DTSTAMP:20260422T065118
CREATED:20230806T142133Z
LAST-MODIFIED:20230806T142133Z
UID:383-1692963000-1692988200@chefezjax.com
SUMMARY:Hanna Park 11:30-6:30pm
DESCRIPTION:
URL:https://chefezjax.com/event/hanna-park-1130-630pm-4/
LOCATION:hanna park\, 500 Wonderwood Dr\, Jacksonville\, FL\, 32233\, United States
END:VEVENT
BEGIN:VEVENT
DTSTART;TZID=UTC:20230824T113000
DTEND;TZID=UTC:20230824T183000
DTSTAMP:20260422T065118
CREATED:20230806T142307Z
LAST-MODIFIED:20230806T142307Z
UID:387-1692876600-1692901800@chefezjax.com
SUMMARY:Hanna Park 11:30-6:30pm
DESCRIPTION:
URL:https://chefezjax.com/event/hanna-park-1130-630pm-6/
LOCATION:hanna park\, 500 Wonderwood Dr\, Jacksonville\, FL\, 32233\, United States
END:VEVENT
BEGIN:VEVENT
DTSTART;TZID=UTC:20230811T113000
DTEND;TZID=UTC:20230811T183000
DTSTAMP:20260422T065118
CREATED:20230806T141636Z
LAST-MODIFIED:20230806T141636Z
UID:377-1691753400-1691778600@chefezjax.com
SUMMARY:Hanna Park 11:30-6:30pm
DESCRIPTION:
URL:https://chefezjax.com/event/hanna-park-1130-630pm-2/
LOCATION:hanna park\, 500 Wonderwood Dr\, Jacksonville\, FL\, 32233\, United States
END:VEVENT
BEGIN:VEVENT
DTSTART;TZID=UTC:20230810T113000
DTEND;TZID=UTC:20230810T183000
DTSTAMP:20260422T065118
CREATED:20230806T141535Z
LAST-MODIFIED:20230806T141535Z
UID:375-1691667000-1691692200@chefezjax.com
SUMMARY:Hanna Park 11:30-6:30pm
DESCRIPTION:
URL:https://chefezjax.com/event/hanna-park-1130-630pm/
LOCATION:FL
END:VEVENT
BEGIN:VEVENT
DTSTART;TZID=UTC:20230806T120000
DTEND;TZID=UTC:20230806T180000
DTSTAMP:20260422T065118
CREATED:20230806T141430Z
LAST-MODIFIED:20230806T141430Z
UID:373-1691323200-1691344800@chefezjax.com
SUMMARY:Hanna Park 12-6pm
DESCRIPTION:
URL:https://chefezjax.com/event/hanna-park-12-6pm/
LOCATION:hanna park\, 500 Wonderwood Dr\, Jacksonville\, FL\, 32233\, United States
END:VEVENT
BEGIN:VEVENT
DTSTART;TZID=UTC:20230723T110000
DTEND;TZID=UTC:20230723T160000
DTSTAMP:20260422T065118
CREATED:20230718T184223Z
LAST-MODIFIED:20230718T184223Z
UID:367-1690110000-1690128000@chefezjax.com
SUMMARY:Open for business
DESCRIPTION:
URL:https://chefezjax.com/event/open-for-business-9/
LOCATION:hanna park\, 500 Wonderwood Dr\, Jacksonville\, FL\, 32233\, United States
END:VEVENT
BEGIN:VEVENT
DTSTART;TZID=UTC:20230722T110000
DTEND;TZID=UTC:20230722T150000
DTSTAMP:20260422T065118
CREATED:20230718T184133Z
LAST-MODIFIED:20230718T184133Z
UID:365-1690023600-1690038000@chefezjax.com
SUMMARY:Sola Apartments
DESCRIPTION:
URL:https://chefezjax.com/event/sola-apartments/
LOCATION:Sola Luxury Apartment Homes\, 8074 Gate Parkway W.\, Jacksonville\, FL\, 32216\, United States
END:VEVENT
BEGIN:VEVENT
DTSTART;TZID=UTC:20230721T110000
DTEND;TZID=UTC:20230721T180000
DTSTAMP:20260422T065118
CREATED:20230718T184054Z
LAST-MODIFIED:20230718T184054Z
UID:363-1689937200-1689962400@chefezjax.com
SUMMARY:Open for business
DESCRIPTION:
URL:https://chefezjax.com/event/open-for-business-8/
LOCATION:hanna park\, 500 Wonderwood Dr\, Jacksonville\, FL\, 32233\, United States
END:VEVENT
BEGIN:VEVENT
DTSTART;TZID=UTC:20230720T110000
DTEND;TZID=UTC:20230720T180000
DTSTAMP:20260422T065118
CREATED:20230718T183947Z
LAST-MODIFIED:20230718T183947Z
UID:360-1689850800-1689876000@chefezjax.com
SUMMARY:Open for business
DESCRIPTION:
URL:https://chefezjax.com/event/open-for-business-7/
LOCATION:hanna park\, 500 Wonderwood Dr\, Jacksonville\, FL\, 32233\, United States
END:VEVENT
BEGIN:VEVENT
DTSTART;TZID=UTC:20230718T080000
DTEND;TZID=UTC:20230718T170000
DTSTAMP:20260422T065118
CREATED:20230718T183905Z
LAST-MODIFIED:20230718T183905Z
UID:357-1689667200-1689699600@chefezjax.com
SUMMARY:Sola Apt
DESCRIPTION:
URL:https://chefezjax.com/event/sola-apt/
LOCATION:Sola Luxury Apartment Homes\, 8074 Gate Parkway W.\, Jacksonville\, FL\, 32216\, United States
END:VEVENT
BEGIN:VEVENT
DTSTART;TZID=UTC:20230718T080000
DTEND;TZID=UTC:20230718T170000
DTSTAMP:20260422T065118
CREATED:20230718T183732Z
LAST-MODIFIED:20230718T183732Z
UID:354-1689667200-1689699600@chefezjax.com
SUMMARY:Hanna Park
DESCRIPTION:
URL:https://chefezjax.com/event/hanna-park/
LOCATION:hanna park\, 500 Wonderwood Dr\, Jacksonville\, FL\, 32233\, United States
END:VEVENT
BEGIN:VEVENT
DTSTART;TZID=UTC:20230701T110000
DTEND;TZID=UTC:20230701T150000
DTSTAMP:20260422T065118
CREATED:20230627T184419Z
LAST-MODIFIED:20230627T184426Z
UID:339-1688209200-1688223600@chefezjax.com
SUMMARY:click for location
DESCRIPTION:
URL:https://chefezjax.com/event/click-for-location/
LOCATION:Villas at st johns\, 7595 Baymeadows Cir W\, Jacksonville\, FL\, 32256\, United States
END:VEVENT
END:VCALENDAR