BEGIN:VCALENDAR
VERSION:2.0
PRODID:-//Chef EZ &amp; The Mariposa - ECPv6.15.20//NONSGML v1.0//EN
CALSCALE:GREGORIAN
METHOD:PUBLISH
X-WR-CALNAME:Chef EZ &amp; The Mariposa
X-ORIGINAL-URL:https://chefezjax.com
X-WR-CALDESC:Events for Chef EZ &amp; The Mariposa
REFRESH-INTERVAL;VALUE=DURATION:PT1H
X-Robots-Tag:noindex
X-PUBLISHED-TTL:PT1H
BEGIN:VTIMEZONE
TZID:UTC
BEGIN:STANDARD
TZOFFSETFROM:+0000
TZOFFSETTO:+0000
TZNAME:UTC
DTSTART:20220101T000000
END:STANDARD
END:VTIMEZONE
BEGIN:VEVENT
DTSTART;TZID=UTC:20240117T170000
DTEND;TZID=UTC:20240117T200000
DTSTAMP:20260421T230242
CREATED:20240111T224430Z
LAST-MODIFIED:20240111T224430Z
UID:595-1705510800-1705521600@chefezjax.com
SUMMARY:The Enclave Apartment Community 5-8pm
DESCRIPTION:
URL:https://chefezjax.com/event/the-enclave-apartment-community-5-8pm/
LOCATION:The Enclave\, 13300 Altantic Blvd\, Jacksonville\, 32225\, United States
END:VEVENT
BEGIN:VEVENT
DTSTART;TZID=UTC:20240114T120000
DTEND;TZID=UTC:20240114T210000
DTSTAMP:20260421T230242
CREATED:20240111T224337Z
LAST-MODIFIED:20240111T224337Z
UID:593-1705233600-1705266000@chefezjax.com
SUMMARY:Bedlam Bar & Music 12-9pm
DESCRIPTION:
URL:https://chefezjax.com/event/bedlam-bar-music-12-9pm-4/
LOCATION:bedlam\, 660 Mayport Rd\, Atlantic Beach\, 32233\, United States
END:VEVENT
BEGIN:VEVENT
DTSTART;TZID=UTC:20240113T110000
DTEND;TZID=UTC:20240113T140000
DTSTAMP:20260421T230242
CREATED:20240111T224254Z
LAST-MODIFIED:20240111T224254Z
UID:591-1705143600-1705154400@chefezjax.com
SUMMARY:Jax Sports Car Museum  Show Open to Public
DESCRIPTION:
URL:https://chefezjax.com/event/jax-sports-car-museum-show-open-to-public/
LOCATION:Sports Car Museum\, 7601 Centurion Pkwy\, Jacksonville\, FL\, 32256\, United States
END:VEVENT
BEGIN:VEVENT
DTSTART;TZID=UTC:20240112T113000
DTEND;TZID=UTC:20240112T183000
DTSTAMP:20260421T230242
CREATED:20240111T224137Z
LAST-MODIFIED:20240111T224137Z
UID:589-1705059000-1705084200@chefezjax.com
SUMMARY:Hanna Park 11:30-6:30pm
DESCRIPTION:
URL:https://chefezjax.com/event/hanna-park-1130-630pm-43/
LOCATION:hanna park\, 500 Wonderwood Dr\, Jacksonville\, FL\, 32233\, United States
END:VEVENT
BEGIN:VEVENT
DTSTART;TZID=UTC:20240111T170000
DTEND;TZID=UTC:20240111T210000
DTSTAMP:20260421T230242
CREATED:20240111T224030Z
LAST-MODIFIED:20240111T224030Z
UID:587-1704992400-1705006800@chefezjax.com
SUMMARY:Bedlam Bar & Music 5-9pm
DESCRIPTION:Doordash Delivery Available \nhttps://www.doordash.com/store/chef-ez-&-the-mariposa-atlantic-beach-26258659/?pickup=true
URL:https://chefezjax.com/event/bedlam-bar-music-5-9pm/
LOCATION:bedlam\, 660 Mayport Rd\, Atlantic Beach\, 32233\, United States
END:VEVENT
BEGIN:VEVENT
DTSTART;TZID=UTC:20231231T130000
DTEND;TZID=UTC:20231231T220000
DTSTAMP:20260421T230242
CREATED:20231205T150224Z
LAST-MODIFIED:20231205T150224Z
UID:580-1704027600-1704060000@chefezjax.com
SUMMARY:NEW YEARS EVE!  Bedlam Bar & Music
DESCRIPTION:
URL:https://chefezjax.com/event/new-years-eve-bedlam-bar-music/
LOCATION:bedlam\, 660 Mayport Rd\, Atlantic Beach\, 32233\, United States
END:VEVENT
BEGIN:VEVENT
DTSTART;TZID=UTC:20231230T113000
DTEND;TZID=UTC:20231230T183000
DTSTAMP:20260421T230242
CREATED:20231205T150048Z
LAST-MODIFIED:20231205T150048Z
UID:578-1703935800-1703961000@chefezjax.com
SUMMARY:Hanna Park 11:30-6:30pm
DESCRIPTION:
URL:https://chefezjax.com/event/hanna-park-1130-630pm-42/
LOCATION:hanna park\, 500 Wonderwood Dr\, Jacksonville\, FL\, 32233\, United States
END:VEVENT
BEGIN:VEVENT
DTSTART;TZID=UTC:20231229T113000
DTEND;TZID=UTC:20231229T183000
DTSTAMP:20260421T230242
CREATED:20231205T150008Z
LAST-MODIFIED:20231205T150008Z
UID:576-1703849400-1703874600@chefezjax.com
SUMMARY:Hanna Park 11:30-6:30pm
DESCRIPTION:
URL:https://chefezjax.com/event/hanna-park-1130-630pm-41/
LOCATION:hanna park\, 500 Wonderwood Dr\, Jacksonville\, FL\, 32233\, United States
END:VEVENT
BEGIN:VEVENT
DTSTART;TZID=UTC:20231228T113000
DTEND;TZID=UTC:20231228T183000
DTSTAMP:20260421T230242
CREATED:20231205T145925Z
LAST-MODIFIED:20231205T145925Z
UID:574-1703763000-1703788200@chefezjax.com
SUMMARY:Hanna Park 11:30-6:30pm
DESCRIPTION:
URL:https://chefezjax.com/event/hanna-park-1130-630pm-40/
LOCATION:hanna park\, 500 Wonderwood Dr\, Jacksonville\, FL\, 32233\, United States
END:VEVENT
BEGIN:VEVENT
DTSTART;TZID=UTC:20231227T113000
DTEND;TZID=UTC:20231227T183000
DTSTAMP:20260421T230242
CREATED:20231205T145854Z
LAST-MODIFIED:20231205T145854Z
UID:572-1703676600-1703701800@chefezjax.com
SUMMARY:Hanna Park 11:30-6:30pm
DESCRIPTION:
URL:https://chefezjax.com/event/hanna-park-1130-630pm-39/
LOCATION:hanna park\, 500 Wonderwood Dr\, Jacksonville\, FL\, 32233\, United States
END:VEVENT
BEGIN:VEVENT
DTSTART;TZID=UTC:20231223T113000
DTEND;TZID=UTC:20231223T183000
DTSTAMP:20260421T230242
CREATED:20231205T145744Z
LAST-MODIFIED:20231205T145744Z
UID:569-1703331000-1703356200@chefezjax.com
SUMMARY:Hanna Park 11;30-6:30pm
DESCRIPTION:
URL:https://chefezjax.com/event/hanna-park-1130-630pm-38/
LOCATION:hanna park\, 500 Wonderwood Dr\, Jacksonville\, FL\, 32233\, United States
END:VEVENT
BEGIN:VEVENT
DTSTART;TZID=UTC:20231222T113000
DTEND;TZID=UTC:20231222T183000
DTSTAMP:20260421T230242
CREATED:20231205T145709Z
LAST-MODIFIED:20231205T145709Z
UID:567-1703244600-1703269800@chefezjax.com
SUMMARY:Hanna Park 11:30-6:30pm
DESCRIPTION:
URL:https://chefezjax.com/event/hanna-park-1130-630pm-37/
LOCATION:hanna park\, 500 Wonderwood Dr\, Jacksonville\, FL\, 32233\, United States
END:VEVENT
BEGIN:VEVENT
DTSTART;TZID=UTC:20231217T130000
DTEND;TZID=UTC:20231217T210000
DTSTAMP:20260421T230242
CREATED:20231205T145335Z
LAST-MODIFIED:20231205T145335Z
UID:562-1702818000-1702846800@chefezjax.com
SUMMARY:Bedlam Bar & Music 1-9pm
DESCRIPTION:
URL:https://chefezjax.com/event/bedlam-bar-music-1-9pm-5/
LOCATION:bedlam\, 660 Mayport Rd\, Atlantic Beach\, 32233\, United States
END:VEVENT
BEGIN:VEVENT
DTSTART;TZID=UTC:20231216T113000
DTEND;TZID=UTC:20231216T183000
DTSTAMP:20260421T230242
CREATED:20231205T145226Z
LAST-MODIFIED:20231205T145450Z
UID:560-1702726200-1702751400@chefezjax.com
SUMMARY:Hanna Park 11:30-6:30pm
DESCRIPTION:
URL:https://chefezjax.com/event/hanna-park-1130-630pm-36/
LOCATION:hanna park\, 500 Wonderwood Dr\, Jacksonville\, FL\, 32233\, United States
END:VEVENT
BEGIN:VEVENT
DTSTART;TZID=UTC:20231215T113000
DTEND;TZID=UTC:20231215T183000
DTSTAMP:20260421T230242
CREATED:20231205T145134Z
LAST-MODIFIED:20231205T145134Z
UID:558-1702639800-1702665000@chefezjax.com
SUMMARY:Hanna Park 11:30-6:30pm
DESCRIPTION:
URL:https://chefezjax.com/event/hanna-park-1130-630pm-35/
LOCATION:hanna park\, 500 Wonderwood Dr\, Jacksonville\, FL\, 32233\, United States
END:VEVENT
BEGIN:VEVENT
DTSTART;TZID=UTC:20231214T110000
DTEND;TZID=UTC:20231214T160000
DTSTAMP:20260421T230242
CREATED:20231205T145047Z
LAST-MODIFIED:20231205T145047Z
UID:555-1702551600-1702569600@chefezjax.com
SUMMARY:Tulsa Wedding School 11am-4pm
DESCRIPTION:
URL:https://chefezjax.com/event/tulsa-wedding-school-11am-4pm/
LOCATION:Tulsa Welding School\, 3500 Southside Blvd\, Jacksonville\, FL\, 32216\, United States
END:VEVENT
BEGIN:VEVENT
DTSTART;TZID=UTC:20231210T120000
DTEND;TZID=UTC:20231210T210000
DTSTAMP:20260421T230242
CREATED:20231205T144444Z
LAST-MODIFIED:20231205T144444Z
UID:550-1702209600-1702242000@chefezjax.com
SUMMARY:"Makers Market" at Bedlam Bar 12-9pm
DESCRIPTION:Makers Market 12-5pm
URL:https://chefezjax.com/event/makers-market-at-bedlam-bar-12-9pm/
LOCATION:bedlam\, 660 Mayport Rd\, Atlantic Beach\, 32233\, United States
END:VEVENT
BEGIN:VEVENT
DTSTART;TZID=UTC:20231209T113000
DTEND;TZID=UTC:20231209T183000
DTSTAMP:20260421T230242
CREATED:20231205T144015Z
LAST-MODIFIED:20231205T144015Z
UID:548-1702121400-1702146600@chefezjax.com
SUMMARY:Hanna Park 11:30-6:30pm
DESCRIPTION:
URL:https://chefezjax.com/event/hanna-park-1130-630pm-34/
LOCATION:hanna park\, 500 Wonderwood Dr\, Jacksonville\, FL\, 32233\, United States
END:VEVENT
BEGIN:VEVENT
DTSTART;TZID=UTC:20231208T113000
DTEND;TZID=UTC:20231208T183000
DTSTAMP:20260421T230242
CREATED:20231205T143937Z
LAST-MODIFIED:20231205T143937Z
UID:546-1702035000-1702060200@chefezjax.com
SUMMARY:Hanna Park 11:30-6:30pm
DESCRIPTION:
URL:https://chefezjax.com/event/hanna-park-1130-630pm-33/
LOCATION:hanna park\, 500 Wonderwood Dr\, Jacksonville\, FL\, 32233\, United States
END:VEVENT
BEGIN:VEVENT
DTSTART;TZID=UTC:20231206T101500
DTEND;TZID=UTC:20231206T183000
DTSTAMP:20260421T230242
CREATED:20231205T143637Z
LAST-MODIFIED:20231205T143637Z
UID:543-1701857700-1701887400@chefezjax.com
SUMMARY:Sutton Place Office Park 10:15am-2pm
DESCRIPTION:
URL:https://chefezjax.com/event/sutton-place-office-park-1015am-2pm/
LOCATION:Sutton Place at Windsor Park\, 13901 Sutton Park Dr South #105\, Jacksonville\, 322224\, United States
END:VEVENT
BEGIN:VEVENT
DTSTART;TZID=UTC:20231205T080000
DTEND;TZID=UTC:20231205T170000
DTSTAMP:20260421T230242
CREATED:20231205T145633Z
LAST-MODIFIED:20231205T145633Z
UID:564-1701763200-1701795600@chefezjax.com
SUMMARY:The Valley at Hidden Hills Neighborhood 5-8pm
DESCRIPTION:
URL:https://chefezjax.com/event/the-valley-at-hidden-hills-neighborhood-5-8pm/
LOCATION:THe Valley at Hidden Hills\, 12078 Arbor Lake Dr\, Jacksonville\, FL\, 32225\, United States
END:VEVENT
BEGIN:VEVENT
DTSTART;TZID=UTC:20231205T080000
DTEND;TZID=UTC:20231205T170000
DTSTAMP:20260421T230242
CREATED:20231205T144815Z
LAST-MODIFIED:20231205T144815Z
UID:552-1701763200-1701795600@chefezjax.com
SUMMARY:Bowden Center 11am-2pm
DESCRIPTION:
URL:https://chefezjax.com/event/bowden-center-11am-2pm/
LOCATION:Bowden Center\, 6500 Bowden Rd\, Jacksonville\, FL\, 32216\, United States
END:VEVENT
BEGIN:VEVENT
DTSTART;TZID=UTC:20231203T113000
DTEND;TZID=UTC:20231203T183000
DTSTAMP:20260421T230242
CREATED:20231205T143337Z
LAST-MODIFIED:20231205T143337Z
UID:541-1701603000-1701628200@chefezjax.com
SUMMARY:Bedlam Bar & Music 1-9pm
DESCRIPTION:
URL:https://chefezjax.com/event/bedlam-bar-music-1-9pm-4/
LOCATION:bedlam\, 660 Mayport Rd\, Atlantic Beach\, 32233\, United States
END:VEVENT
BEGIN:VEVENT
DTSTART;TZID=UTC:20231202T103000
DTEND;TZID=UTC:20231202T183000
DTSTAMP:20260421T230242
CREATED:20231205T143237Z
LAST-MODIFIED:20231205T143237Z
UID:539-1701513000-1701541800@chefezjax.com
SUMMARY:Hanna Park 11:30-6:30pm
DESCRIPTION:
URL:https://chefezjax.com/event/hanna-park-1130-630pm-32/
LOCATION:hanna park\, 500 Wonderwood Dr\, Jacksonville\, FL\, 32233\, United States
END:VEVENT
BEGIN:VEVENT
DTSTART;TZID=UTC:20231201T113000
DTEND;TZID=UTC:20231201T183000
DTSTAMP:20260421T230242
CREATED:20231205T143157Z
LAST-MODIFIED:20231205T143157Z
UID:537-1701430200-1701455400@chefezjax.com
SUMMARY:Hanna Park 11:30-6:30pm
DESCRIPTION:
URL:https://chefezjax.com/event/hanna-park-1130-630pm-31/
LOCATION:hanna park\, 500 Wonderwood Dr\, Jacksonville\, FL\, 32233\, United States
END:VEVENT
BEGIN:VEVENT
DTSTART;TZID=UTC:20231129T170000
DTEND;TZID=UTC:20231129T200000
DTSTAMP:20260421T230242
CREATED:20231102T133953Z
LAST-MODIFIED:20231102T133953Z
UID:522-1701277200-1701288000@chefezjax.com
SUMMARY:The Enclave Apt Homes 5-8pm
DESCRIPTION:
URL:https://chefezjax.com/event/the-enclave-apt-homes-5-8pm/
LOCATION:The Enclave\, 13300 Altantic Blvd\, Jacksonville\, 32225\, United States
END:VEVENT
BEGIN:VEVENT
DTSTART;TZID=UTC:20231126T130000
DTEND;TZID=UTC:20231126T210000
DTSTAMP:20260421T230242
CREATED:20231102T133730Z
LAST-MODIFIED:20231102T133730Z
UID:520-1701003600-1701032400@chefezjax.com
SUMMARY:Bedlam Bar & Music 1-9pm
DESCRIPTION:
URL:https://chefezjax.com/event/bedlam-bar-music-1-9pm-3/
LOCATION:bedlam\, 660 Mayport Rd\, Atlantic Beach\, 32233\, United States
END:VEVENT
BEGIN:VEVENT
DTSTART;TZID=UTC:20231125T113000
DTEND;TZID=UTC:20231125T183000
DTSTAMP:20260421T230242
CREATED:20231102T133627Z
LAST-MODIFIED:20231102T133627Z
UID:518-1700911800-1700937000@chefezjax.com
SUMMARY:Hanna Park 11:30-6:30pm
DESCRIPTION:
URL:https://chefezjax.com/event/hanna-park-1130-630pm-30/
LOCATION:hanna park\, 500 Wonderwood Dr\, Jacksonville\, FL\, 32233\, United States
END:VEVENT
BEGIN:VEVENT
DTSTART;TZID=UTC:20231124T113000
DTEND;TZID=UTC:20231124T183000
DTSTAMP:20260421T230242
CREATED:20231102T133537Z
LAST-MODIFIED:20231102T133537Z
UID:516-1700825400-1700850600@chefezjax.com
SUMMARY:Hanna Park 11:30-6:30pm
DESCRIPTION:
URL:https://chefezjax.com/event/hanna-park-1130-630pm-29/
LOCATION:hanna park\, 500 Wonderwood Dr\, Jacksonville\, FL\, 32233\, United States
END:VEVENT
BEGIN:VEVENT
DTSTART;TZID=UTC:20231122T113000
DTEND;TZID=UTC:20231122T183000
DTSTAMP:20260421T230242
CREATED:20231102T133435Z
LAST-MODIFIED:20231102T133435Z
UID:514-1700652600-1700677800@chefezjax.com
SUMMARY:Hanna Park 11:30-6:30pm
DESCRIPTION:
URL:https://chefezjax.com/event/hanna-park-1130-630pm-28/
LOCATION:hanna park\, 500 Wonderwood Dr\, Jacksonville\, FL\, 32233\, United States
END:VEVENT
END:VCALENDAR