BEGIN:VCALENDAR
VERSION:2.0
PRODID:-//Chef EZ &amp; The Mariposa - ECPv6.15.20//NONSGML v1.0//EN
CALSCALE:GREGORIAN
METHOD:PUBLISH
X-ORIGINAL-URL:https://chefezjax.com
X-WR-CALDESC:Events for Chef EZ &amp; The Mariposa
REFRESH-INTERVAL;VALUE=DURATION:PT1H
X-Robots-Tag:noindex
X-PUBLISHED-TTL:PT1H
BEGIN:VTIMEZONE
TZID:UTC
BEGIN:STANDARD
TZOFFSETFROM:+0000
TZOFFSETTO:+0000
TZNAME:UTC
DTSTART:20220101T000000
END:STANDARD
END:VTIMEZONE
BEGIN:VEVENT
DTSTART;TZID=UTC:20231201T113000
DTEND;TZID=UTC:20231201T183000
DTSTAMP:20260422T021535
CREATED:20231205T143157Z
LAST-MODIFIED:20231205T143157Z
UID:537-1701430200-1701455400@chefezjax.com
SUMMARY:Hanna Park 11:30-6:30pm
DESCRIPTION:
URL:https://chefezjax.com/event/hanna-park-1130-630pm-31/
LOCATION:hanna park\, 500 Wonderwood Dr\, Jacksonville\, FL\, 32233\, United States
END:VEVENT
BEGIN:VEVENT
DTSTART;TZID=UTC:20231129T170000
DTEND;TZID=UTC:20231129T200000
DTSTAMP:20260422T021535
CREATED:20231102T133953Z
LAST-MODIFIED:20231102T133953Z
UID:522-1701277200-1701288000@chefezjax.com
SUMMARY:The Enclave Apt Homes 5-8pm
DESCRIPTION:
URL:https://chefezjax.com/event/the-enclave-apt-homes-5-8pm/
LOCATION:The Enclave\, 13300 Altantic Blvd\, Jacksonville\, 32225\, United States
END:VEVENT
BEGIN:VEVENT
DTSTART;TZID=UTC:20231126T130000
DTEND;TZID=UTC:20231126T210000
DTSTAMP:20260422T021535
CREATED:20231102T133730Z
LAST-MODIFIED:20231102T133730Z
UID:520-1701003600-1701032400@chefezjax.com
SUMMARY:Bedlam Bar & Music 1-9pm
DESCRIPTION:
URL:https://chefezjax.com/event/bedlam-bar-music-1-9pm-3/
LOCATION:bedlam\, 660 Mayport Rd\, Atlantic Beach\, 32233\, United States
END:VEVENT
BEGIN:VEVENT
DTSTART;TZID=UTC:20231125T113000
DTEND;TZID=UTC:20231125T183000
DTSTAMP:20260422T021535
CREATED:20231102T133627Z
LAST-MODIFIED:20231102T133627Z
UID:518-1700911800-1700937000@chefezjax.com
SUMMARY:Hanna Park 11:30-6:30pm
DESCRIPTION:
URL:https://chefezjax.com/event/hanna-park-1130-630pm-30/
LOCATION:hanna park\, 500 Wonderwood Dr\, Jacksonville\, FL\, 32233\, United States
END:VEVENT
BEGIN:VEVENT
DTSTART;TZID=UTC:20231124T113000
DTEND;TZID=UTC:20231124T183000
DTSTAMP:20260422T021535
CREATED:20231102T133537Z
LAST-MODIFIED:20231102T133537Z
UID:516-1700825400-1700850600@chefezjax.com
SUMMARY:Hanna Park 11:30-6:30pm
DESCRIPTION:
URL:https://chefezjax.com/event/hanna-park-1130-630pm-29/
LOCATION:hanna park\, 500 Wonderwood Dr\, Jacksonville\, FL\, 32233\, United States
END:VEVENT
BEGIN:VEVENT
DTSTART;TZID=UTC:20231122T113000
DTEND;TZID=UTC:20231122T183000
DTSTAMP:20260422T021535
CREATED:20231102T133435Z
LAST-MODIFIED:20231102T133435Z
UID:514-1700652600-1700677800@chefezjax.com
SUMMARY:Hanna Park 11:30-6:30pm
DESCRIPTION:
URL:https://chefezjax.com/event/hanna-park-1130-630pm-28/
LOCATION:hanna park\, 500 Wonderwood Dr\, Jacksonville\, FL\, 32233\, United States
END:VEVENT
BEGIN:VEVENT
DTSTART;TZID=UTC:20231119T130000
DTEND;TZID=UTC:20231119T210000
DTSTAMP:20260422T021535
CREATED:20231102T133235Z
LAST-MODIFIED:20231102T133235Z
UID:512-1700398800-1700427600@chefezjax.com
SUMMARY:Bedlam Bar & Music 1-9pm
DESCRIPTION:
URL:https://chefezjax.com/event/bedlam-bar-music-1-9pm-2/
LOCATION:bedlam\, 660 Mayport Rd\, Atlantic Beach\, 32233\, United States
END:VEVENT
BEGIN:VEVENT
DTSTART;TZID=UTC:20231118T100000
DTEND;TZID=UTC:20231118T140000
DTSTAMP:20260422T021535
CREATED:20231102T133158Z
LAST-MODIFIED:20231118T122558Z
UID:510-1700301600-1700316000@chefezjax.com
SUMMARY:Fletcher Park 10am-2pm\, Blessing of the Pets Event
DESCRIPTION:
URL:https://chefezjax.com/event/hanna-park-1130-630pm-27/
LOCATION:Fletcher Park\, 1652 Atlantic Blvd\, Jacksonville\, 32207\, United States
END:VEVENT
BEGIN:VEVENT
DTSTART;TZID=UTC:20231117T113000
DTEND;TZID=UTC:20231117T183000
DTSTAMP:20260422T021535
CREATED:20231102T133106Z
LAST-MODIFIED:20231102T133106Z
UID:508-1700220600-1700245800@chefezjax.com
SUMMARY:Hanna Park 11:30-6:30pm
DESCRIPTION:
URL:https://chefezjax.com/event/hanna-park-1130-630pm-26/
LOCATION:hanna park\, 500 Wonderwood Dr\, Jacksonville\, FL\, 32233\, United States
END:VEVENT
BEGIN:VEVENT
DTSTART;TZID=UTC:20231112T130000
DTEND;TZID=UTC:20231112T210000
DTSTAMP:20260422T021535
CREATED:20231102T133018Z
LAST-MODIFIED:20231102T133018Z
UID:506-1699794000-1699822800@chefezjax.com
SUMMARY:Bedlam Bar & Music 1-9pm
DESCRIPTION:
URL:https://chefezjax.com/event/bedlam-bar-music-1-9pm/
LOCATION:bedlam\, 660 Mayport Rd\, Atlantic Beach\, 32233\, United States
END:VEVENT
BEGIN:VEVENT
DTSTART;TZID=UTC:20231111T113000
DTEND;TZID=UTC:20231111T183000
DTSTAMP:20260422T021535
CREATED:20231102T132917Z
LAST-MODIFIED:20231102T132917Z
UID:504-1699702200-1699727400@chefezjax.com
SUMMARY:Hanna Park 11:30-6:30pm
DESCRIPTION:
URL:https://chefezjax.com/event/hanna-park-1130-630pm-25/
LOCATION:hanna park\, 500 Wonderwood Dr\, Jacksonville\, FL\, 32233\, United States
END:VEVENT
BEGIN:VEVENT
DTSTART;TZID=UTC:20231110T113000
DTEND;TZID=UTC:20231110T183000
DTSTAMP:20260422T021535
CREATED:20231102T132826Z
LAST-MODIFIED:20231102T132826Z
UID:502-1699615800-1699641000@chefezjax.com
SUMMARY:Hanna Park 11:30-6:30pm
DESCRIPTION:
URL:https://chefezjax.com/event/hanna-park-1130-630pm-24/
LOCATION:hanna park\, 500 Wonderwood Dr\, Jacksonville\, FL\, 32233\, United States
END:VEVENT
BEGIN:VEVENT
DTSTART;TZID=UTC:20231109T170000
DTEND;TZID=UTC:20231109T200000
DTSTAMP:20260422T021535
CREATED:20231102T132011Z
LAST-MODIFIED:20231102T132742Z
UID:499-1699549200-1699560000@chefezjax.com
SUMMARY:Kensington on Kernan Blvd 5-8pm
DESCRIPTION:
URL:https://chefezjax.com/event/kensington-on-kernan-blvd-5-8pm/
LOCATION:Kensington on Kernan Blvd\, 1665 Kensington Lakes Dr\, Jacksonville\, 32246\, United States
END:VEVENT
BEGIN:VEVENT
DTSTART;TZID=UTC:20231105T130000
DTEND;TZID=UTC:20231105T210000
DTSTAMP:20260422T021535
CREATED:20231101T133209Z
LAST-MODIFIED:20231101T133209Z
UID:495-1699189200-1699218000@chefezjax.com
SUMMARY:Bedlam Bar 1-9pm
DESCRIPTION:
URL:https://chefezjax.com/event/bedlam-bar-1-9pm/
LOCATION:bedlam\, 660 Mayport Rd\, Atlantic Beach\, 32233\, United States
END:VEVENT
BEGIN:VEVENT
DTSTART;TZID=UTC:20231104T150000
DTEND;TZID=UTC:20231104T210000
DTSTAMP:20260422T021535
CREATED:20231101T133118Z
LAST-MODIFIED:20231101T133118Z
UID:492-1699110000-1699131600@chefezjax.com
SUMMARY:Atlantic Beach JAZZ FESTIVAL @ Johansen Park
DESCRIPTION:
URL:https://chefezjax.com/event/atlantic-beach-jazz-festival-johansen-park/
LOCATION:Johansen Park Atlantic Beach\, 1300 Seminole Rd\, Atlantic Beach\, FL\, 32233\, United States
END:VEVENT
BEGIN:VEVENT
DTSTART;TZID=UTC:20231103T113000
DTEND;TZID=UTC:20231103T183000
DTSTAMP:20260422T021535
CREATED:20231101T132749Z
LAST-MODIFIED:20231101T132749Z
UID:490-1699011000-1699036200@chefezjax.com
SUMMARY:Hanna Park 11:30-6:30pm
DESCRIPTION:
URL:https://chefezjax.com/event/hanna-park-1130-630pm-23/
LOCATION:hanna park\, 500 Wonderwood Dr\, Jacksonville\, FL\, 32233\, United States
END:VEVENT
BEGIN:VEVENT
DTSTART;TZID=UTC:20231102T170000
DTEND;TZID=UTC:20231102T200000
DTSTAMP:20260422T021535
CREATED:20231101T132656Z
LAST-MODIFIED:20231101T132656Z
UID:487-1698944400-1698955200@chefezjax.com
SUMMARY:Registry at Windsor Parke Apartment Homes 5-8pm
DESCRIPTION:
URL:https://chefezjax.com/event/registry-at-windsor-parke-apartment-homes-5-8pm/
LOCATION:Registry at Windsor Parke\, 13401 Sutton Park Dr S\, Jacksonville\, 32224\, United States
END:VEVENT
BEGIN:VEVENT
DTSTART;TZID=UTC:20231101T110000
DTEND;TZID=UTC:20231101T140000
DTSTAMP:20260422T021535
CREATED:20231101T132157Z
LAST-MODIFIED:20231101T132157Z
UID:484-1698836400-1698847200@chefezjax.com
SUMMARY:MEPS JAX LUNCH
DESCRIPTION:
URL:https://chefezjax.com/event/meps-jax-lunch/
LOCATION:MEPS JAX\, 7178 Baymeadows Way\, Jacksonville\, 32256\, United States
END:VEVENT
BEGIN:VEVENT
DTSTART;TZID=UTC:20231029T120000
DTEND;TZID=UTC:20231029T210000
DTSTAMP:20260422T021535
CREATED:20231001T205413Z
LAST-MODIFIED:20231001T205413Z
UID:479-1698580800-1698613200@chefezjax.com
SUMMARY:Bedlam Bar & Music 12-9pm
DESCRIPTION:
URL:https://chefezjax.com/event/bedlam-bar-music-12-9pm-3/
LOCATION:FL
END:VEVENT
BEGIN:VEVENT
DTSTART;TZID=UTC:20231028T113000
DTEND;TZID=UTC:20231028T183000
DTSTAMP:20260422T021535
CREATED:20231001T205330Z
LAST-MODIFIED:20231001T205330Z
UID:477-1698492600-1698517800@chefezjax.com
SUMMARY:Hanna Park 11:30-6:30pm
DESCRIPTION:
URL:https://chefezjax.com/event/hanna-park-1130-630pm-22/
LOCATION:hanna park\, 500 Wonderwood Dr\, Jacksonville\, FL\, 32233\, United States
END:VEVENT
BEGIN:VEVENT
DTSTART;TZID=UTC:20231027T113000
DTEND;TZID=UTC:20231027T183000
DTSTAMP:20260422T021535
CREATED:20231001T205254Z
LAST-MODIFIED:20231001T205254Z
UID:475-1698406200-1698431400@chefezjax.com
SUMMARY:Hanna Park 11:30-6:30pm
DESCRIPTION:
URL:https://chefezjax.com/event/hanna-park-1130-630pm-21/
LOCATION:hanna park\, 500 Wonderwood Dr\, Jacksonville\, FL\, 32233\, United States
END:VEVENT
BEGIN:VEVENT
DTSTART;TZID=UTC:20231026T113000
DTEND;TZID=UTC:20231026T183000
DTSTAMP:20260422T021535
CREATED:20231001T205219Z
LAST-MODIFIED:20231001T205219Z
UID:473-1698319800-1698345000@chefezjax.com
SUMMARY:Hanna Park 11:30-6:30pm
DESCRIPTION:
URL:https://chefezjax.com/event/hanna-park-1130-630pm-20/
LOCATION:hanna park\, 500 Wonderwood Dr\, Jacksonville\, FL\, 32233\, United States
END:VEVENT
BEGIN:VEVENT
DTSTART;TZID=UTC:20231022T120000
DTEND;TZID=UTC:20231022T210000
DTSTAMP:20260422T021535
CREATED:20231001T205110Z
LAST-MODIFIED:20231001T205110Z
UID:471-1697976000-1698008400@chefezjax.com
SUMMARY:Bedlam Bar & Music 12-9pm
DESCRIPTION:
URL:https://chefezjax.com/event/bedlam-bar-music-12-9pm-2/
LOCATION:bedlam\, 660 Mayport Rd\, Atlantic Beach\, 32233\, United States
END:VEVENT
BEGIN:VEVENT
DTSTART;TZID=UTC:20231021T113000
DTEND;TZID=UTC:20231021T183000
DTSTAMP:20260422T021535
CREATED:20231001T205019Z
LAST-MODIFIED:20231001T205019Z
UID:469-1697887800-1697913000@chefezjax.com
SUMMARY:Hanna Park 11:30-6:30pm
DESCRIPTION:
URL:https://chefezjax.com/event/hanna-park-1130-630pm-19/
LOCATION:hanna park\, 500 Wonderwood Dr\, Jacksonville\, FL\, 32233\, United States
END:VEVENT
BEGIN:VEVENT
DTSTART;TZID=UTC:20231020T170000
DTEND;TZID=UTC:20231020T210000
DTSTAMP:20260422T021535
CREATED:20231001T204935Z
LAST-MODIFIED:20231001T204935Z
UID:467-1697821200-1697835600@chefezjax.com
SUMMARY:Veterans United Craft Brewery
DESCRIPTION:
URL:https://chefezjax.com/event/veterans-united-craft-brewery/
LOCATION:Veterans United\, 8999 Western Way #104\, Jacksonville\, FL\, 32256\, United States
END:VEVENT
BEGIN:VEVENT
DTSTART;TZID=UTC:20231019T113000
DTEND;TZID=UTC:20231019T183000
DTSTAMP:20260422T021535
CREATED:20231001T204744Z
LAST-MODIFIED:20231001T204744Z
UID:465-1697715000-1697740200@chefezjax.com
SUMMARY:Hanna Park 11:30-6:30pm
DESCRIPTION:
URL:https://chefezjax.com/event/hanna-park-1130-630pm-18/
LOCATION:hanna park\, 500 Wonderwood Dr\, Jacksonville\, FL\, 32233\, United States
END:VEVENT
BEGIN:VEVENT
DTSTART;TZID=UTC:20231018T110000
DTEND;TZID=UTC:20231018T140000
DTSTAMP:20260422T021535
CREATED:20231001T204700Z
LAST-MODIFIED:20231001T204700Z
UID:463-1697626800-1697637600@chefezjax.com
SUMMARY:Capital Plaza Office Park
DESCRIPTION:
URL:https://chefezjax.com/event/capital-plaza-office-park/
LOCATION:Capital Plaza\, 10401 Deerwood Park Blvd Suite 100\, Jacksonville\, 32256\, United States
END:VEVENT
BEGIN:VEVENT
DTSTART;TZID=UTC:20231015T120000
DTEND;TZID=UTC:20231015T210000
DTSTAMP:20260422T021535
CREATED:20231001T204549Z
LAST-MODIFIED:20231001T204549Z
UID:461-1697371200-1697403600@chefezjax.com
SUMMARY:Bedlam Bar and Music 12-9pm
DESCRIPTION:
URL:https://chefezjax.com/event/bedlam-bar-and-music-12-9pm/
LOCATION:bedlam\, 660 Mayport Rd\, Atlantic Beach\, 32233\, United States
END:VEVENT
BEGIN:VEVENT
DTSTART;TZID=UTC:20231014T120000
DTEND;TZID=UTC:20231014T160000
DTSTAMP:20260422T021535
CREATED:20231001T204244Z
LAST-MODIFIED:20231001T204244Z
UID:458-1697284800-1697299200@chefezjax.com
SUMMARY:Sports Car Museum Annual Car Show & OctoberFest
DESCRIPTION:
URL:https://chefezjax.com/event/sports-car-museum-annual-car-show-octoberfest/
LOCATION:Sports Car Museum\, 7601 Centurion Pkwy\, Jacksonville\, FL\, 32256\, United States
END:VEVENT
BEGIN:VEVENT
DTSTART;TZID=UTC:20231013T113000
DTEND;TZID=UTC:20231013T183000
DTSTAMP:20260422T021535
CREATED:20231001T203910Z
LAST-MODIFIED:20231001T203910Z
UID:456-1697196600-1697221800@chefezjax.com
SUMMARY:Hanna Park 11:30-6:30pm
DESCRIPTION:
URL:https://chefezjax.com/event/hanna-park-1130-630pm-17/
LOCATION:hanna park\, 500 Wonderwood Dr\, Jacksonville\, FL\, 32233\, United States
END:VEVENT
END:VCALENDAR